BEGIN:VCALENDAR
VERSION:2.0
PRODID:-//Deutsche KlimaStiftung - ECPv6.15.17//NONSGML v1.0//EN
CALSCALE:GREGORIAN
METHOD:PUBLISH
X-WR-CALNAME:Deutsche KlimaStiftung
X-ORIGINAL-URL:https://www.deutsche-klimastiftung.de
X-WR-CALDESC:Veranstaltungen für Deutsche KlimaStiftung
REFRESH-INTERVAL;VALUE=DURATION:PT1H
X-Robots-Tag:noindex
X-PUBLISHED-TTL:PT1H
BEGIN:VTIMEZONE
TZID:Europe/Berlin
BEGIN:DAYLIGHT
TZOFFSETFROM:+0100
TZOFFSETTO:+0200
TZNAME:CEST
DTSTART:20250330T010000
END:DAYLIGHT
BEGIN:STANDARD
TZOFFSETFROM:+0200
TZOFFSETTO:+0100
TZNAME:CET
DTSTART:20251026T010000
END:STANDARD
BEGIN:DAYLIGHT
TZOFFSETFROM:+0100
TZOFFSETTO:+0200
TZNAME:CEST
DTSTART:20260329T010000
END:DAYLIGHT
BEGIN:STANDARD
TZOFFSETFROM:+0200
TZOFFSETTO:+0100
TZNAME:CET
DTSTART:20261025T010000
END:STANDARD
BEGIN:DAYLIGHT
TZOFFSETFROM:+0100
TZOFFSETTO:+0200
TZNAME:CEST
DTSTART:20270328T010000
END:DAYLIGHT
BEGIN:STANDARD
TZOFFSETFROM:+0200
TZOFFSETTO:+0100
TZNAME:CET
DTSTART:20271031T010000
END:STANDARD
END:VTIMEZONE
BEGIN:VEVENT
DTSTART;TZID=Europe/Berlin:20260430T113000
DTEND;TZID=Europe/Berlin:20260430T123000
DTSTAMP:20260424T173430
CREATED:20260121T155339Z
LAST-MODIFIED:20260121T155339Z
UID:10000190-1777548600-1777552200@www.deutsche-klimastiftung.de
SUMMARY:WeiterGedacht - nachhaltiges Vernetzen
DESCRIPTION:Wir laden dich herzlich zu unserem Online-Format „WeiterGedacht“ am 30. April ein – ein Raum für offenen Austausch\, neue Perspektiven und praxisnahe Impulse rund um Nachhaltigkeit und Berufliche Bildung für nachhaltige Entwicklung (BBNE). \n  \nChangemaker – Azubis für Mitgestaltung begeistern \nAm 30.04.2026 geht es um die Frage\, wie Auszubildende für das Thema nachhaltige Entwicklung sensibilisiert werden können und welchen Mehrwert das für Unternehmen hat. \nClaudia Strzelecki\, Bildungsreferentin für nachhaltige Entwicklung (BNE/BBNE) und Nachhaltigkeits-Enthusiastin gibt einen Einblick in ihre Arbeit mit Auszubildenden. \nIn ihren Workshops macht sie das Thema Nachhaltigkeit erlebbar\, relevant und berufspraktisch. Wie Auszubildende darauf reagieren und was sie daraus mitnehmen erzählt sie in diesem Impuls. \n  \n📅 Termin: 30.04.2026 | 11:30 – 12:30 Uhr \n📍Online | kostenfrei | interaktiv \nAnmeldung: https://forms.cloud.microsoft/e/8C3V0RqdCA \nDen Zugangslink erhältst du wenige Tage vor der Veranstaltung. \nWir freuen uns auf dich! Bei Fragen melde dich gerne.
URL:https://www.deutsche-klimastiftung.de/event/weitergedacht-nachhaltiges-vernetzen/
LOCATION:Online
ATTACH;FMTTYPE=image/png:https://www.deutsche-klimastiftung.de/wp-content/uploads/2026/01/WeiterGedacht_Titelbild_04-2026.png
END:VEVENT
END:VCALENDAR