BEGIN:VCALENDAR
VERSION:2.0
PRODID:-//Deutsche KlimaStiftung - ECPv6.15.17//NONSGML v1.0//EN
CALSCALE:GREGORIAN
METHOD:PUBLISH
X-WR-CALNAME:Deutsche KlimaStiftung
X-ORIGINAL-URL:https://www.deutsche-klimastiftung.de
X-WR-CALDESC:Veranstaltungen für Deutsche KlimaStiftung
REFRESH-INTERVAL;VALUE=DURATION:PT1H
X-Robots-Tag:noindex
X-PUBLISHED-TTL:PT1H
BEGIN:VTIMEZONE
TZID:Europe/Berlin
BEGIN:DAYLIGHT
TZOFFSETFROM:+0100
TZOFFSETTO:+0200
TZNAME:CEST
DTSTART:20230326T010000
END:DAYLIGHT
BEGIN:STANDARD
TZOFFSETFROM:+0200
TZOFFSETTO:+0100
TZNAME:CET
DTSTART:20231029T010000
END:STANDARD
BEGIN:DAYLIGHT
TZOFFSETFROM:+0100
TZOFFSETTO:+0200
TZNAME:CEST
DTSTART:20240331T010000
END:DAYLIGHT
BEGIN:STANDARD
TZOFFSETFROM:+0200
TZOFFSETTO:+0100
TZNAME:CET
DTSTART:20241027T010000
END:STANDARD
BEGIN:DAYLIGHT
TZOFFSETFROM:+0100
TZOFFSETTO:+0200
TZNAME:CEST
DTSTART:20250330T010000
END:DAYLIGHT
BEGIN:STANDARD
TZOFFSETFROM:+0200
TZOFFSETTO:+0100
TZNAME:CET
DTSTART:20251026T010000
END:STANDARD
END:VTIMEZONE
BEGIN:VEVENT
DTSTART;TZID=Europe/Berlin:20240201T080000
DTEND;TZID=Europe/Berlin:20240317T170000
DTSTAMP:20260423T061419
CREATED:20230201T141555Z
LAST-MODIFIED:20240311T092807Z
UID:10000064-1706774400-1710694800@www.deutsche-klimastiftung.de
SUMMARY:Wanderausstellung KLIMAFLUCHT im Haus des Waldes in Stuttgart
DESCRIPTION:Die Wanderausstellung KLIMAFLUCHT bietet Besucherinnen und Besuchern Hintergrundinformationen zu umweltbedingter Migration\, den Auswirkungen des Klimawandels in verschiedenen Teilen der Erde sowie der Größe des ökologischen Fußabdrucks in den einzelnen Ländern. Hierbei handelt es sich um vierzehn lebensgroße Figuren\, die in Audiobeiträgen über ihre Schicksale\, Sorgen und Hoffnungen berichten.
URL:https://www.deutsche-klimastiftung.de/event/wanderausstellung-klimaflucht-in-stuttgart/
ATTACH;FMTTYPE=image/png:https://www.deutsche-klimastiftung.de/wp-content/uploads/2023/02/Deutschland2-555x370-1.png
END:VEVENT
BEGIN:VEVENT
DTSTART;TZID=Europe/Berlin:20240219T180000
DTEND;TZID=Europe/Berlin:20240219T193000
DTSTAMP:20260423T061419
CREATED:20240111T093949Z
LAST-MODIFIED:20240111T100737Z
UID:10000112-1708365600-1708371000@www.deutsche-klimastiftung.de
SUMMARY:Den Klimawandel durch andere Augen sehen- Klimabotschafter:innen erzählen
DESCRIPTION:Der Klimawandel beeinflusst und bedroht längst das Leben vieler Menschen auf der Welt. Schon heute gibt es zahlreiche Erfahrungen\, Erlebnisse und Geschichten zum Umgang mit dem Klimawandel\, die erzählt werden müssen. In unserem Projekt werden seit 2019 Menschen mit Flucht- und Migrationserfahrungen zu Klimabotschafter:innen qualifiziert\, die mit ihren Lebensgeschichten Menschen zu aktivem Handeln für Klimaschutz bewegen. \n  \nIn diesem Online-Workshop werden zwei Klimabotschafter:innen über ihre Erfahrungen und Erlebnisse aufgrund der Auswirkungen des Klimawandels berichten. Dabei geht es auch um das Thema Klimagerechtigkeit\, also welche Konsequenzen unser Handeln auf den Alltag von Menschen auf der ganzen Welt hat und welche globale Verantwortung wir tragen. Der Workshop bietet Raum für Austausch und die Möglichkeit mit den Klimabotschafter:innen direkt ins Gespräch zu kommen. \nAnmeldungen gehen bis Mittwoch\, 14.02.2024 unter info-umweltstation@kitzingen.de oder unter 093219281109
URL:https://www.deutsche-klimastiftung.de/event/den-klimawandel-durch-andere-augen-sehen-klimabotschafterinnen-erzaehlen/
LOCATION:Online
ATTACH;FMTTYPE=image/png:https://www.deutsche-klimastiftung.de/wp-content/uploads/2023/02/Klimagesichter.png
END:VEVENT
END:VCALENDAR